BEGIN:VCALENDAR
VERSION:2.0
PRODID:-//Association Culturelle Baianas de Genève - ECPv6.15.20//NONSGML v1.0//EN
CALSCALE:GREGORIAN
METHOD:PUBLISH
X-ORIGINAL-URL:https://baianas-de-geneve.com
X-WR-CALDESC:Évènements pour Association Culturelle Baianas de Genève
REFRESH-INTERVAL;VALUE=DURATION:PT1H
X-Robots-Tag:noindex
X-PUBLISHED-TTL:PT1H
BEGIN:VTIMEZONE
TZID:Europe/Zurich
BEGIN:DAYLIGHT
TZOFFSETFROM:+0100
TZOFFSETTO:+0200
TZNAME:CEST
DTSTART:20220327T010000
END:DAYLIGHT
BEGIN:STANDARD
TZOFFSETFROM:+0200
TZOFFSETTO:+0100
TZNAME:CET
DTSTART:20221030T010000
END:STANDARD
BEGIN:DAYLIGHT
TZOFFSETFROM:+0100
TZOFFSETTO:+0200
TZNAME:CEST
DTSTART:20230326T010000
END:DAYLIGHT
BEGIN:STANDARD
TZOFFSETFROM:+0200
TZOFFSETTO:+0100
TZNAME:CET
DTSTART:20231029T010000
END:STANDARD
BEGIN:DAYLIGHT
TZOFFSETFROM:+0100
TZOFFSETTO:+0200
TZNAME:CEST
DTSTART:20240331T010000
END:DAYLIGHT
BEGIN:STANDARD
TZOFFSETFROM:+0200
TZOFFSETTO:+0100
TZNAME:CET
DTSTART:20241027T010000
END:STANDARD
END:VTIMEZONE
BEGIN:VEVENT
DTSTART;TZID=Europe/Zurich:20231015T120000
DTEND;TZID=Europe/Zurich:20231015T180000
DTSTAMP:20260421T190651
CREATED:20221023T104102Z
LAST-MODIFIED:20231009T210937Z
UID:31574-1697371200-1697392800@baianas-de-geneve.com
SUMMARY:4e Fête des Enfants
DESCRIPTION:De 12h00 à 18h00 à la Maison de Quartier Sous l’Etoile
URL:https://baianas-de-geneve.com/event/4e-fete-des-enfants/
LOCATION:Maison de Quartier Sous l’Etoile\, Av. des Communes-Réunies 73\, Grand-Lancy\, 1212\, Suisse
END:VEVENT
END:VCALENDAR